BEGIN:VCALENDAR
VERSION:2.0
PRODID:-//trabantfreunde.de - ECPv6.15.20//NONSGML v1.0//EN
CALSCALE:GREGORIAN
METHOD:PUBLISH
X-WR-CALNAME:trabantfreunde.de
X-ORIGINAL-URL:https://trabantfreunde.de
X-WR-CALDESC:Veranstaltungen für trabantfreunde.de
REFRESH-INTERVAL;VALUE=DURATION:PT1H
X-Robots-Tag:noindex
X-PUBLISHED-TTL:PT1H
BEGIN:VTIMEZONE
TZID:Europe/Berlin
BEGIN:DAYLIGHT
TZOFFSETFROM:+0100
TZOFFSETTO:+0200
TZNAME:CEST
DTSTART:20250330T010000
END:DAYLIGHT
BEGIN:STANDARD
TZOFFSETFROM:+0200
TZOFFSETTO:+0100
TZNAME:CET
DTSTART:20251026T010000
END:STANDARD
BEGIN:DAYLIGHT
TZOFFSETFROM:+0100
TZOFFSETTO:+0200
TZNAME:CEST
DTSTART:20260329T010000
END:DAYLIGHT
BEGIN:STANDARD
TZOFFSETFROM:+0200
TZOFFSETTO:+0100
TZNAME:CET
DTSTART:20261025T010000
END:STANDARD
BEGIN:DAYLIGHT
TZOFFSETFROM:+0100
TZOFFSETTO:+0200
TZNAME:CEST
DTSTART:20270328T010000
END:DAYLIGHT
BEGIN:STANDARD
TZOFFSETFROM:+0200
TZOFFSETTO:+0100
TZNAME:CET
DTSTART:20271031T010000
END:STANDARD
END:VTIMEZONE
BEGIN:VEVENT
DTSTART;TZID=Europe/Berlin:20260725T000000
DTEND;TZID=Europe/Berlin:20260726T000000
DTSTAMP:20260420T103625
CREATED:20260412T182633Z
LAST-MODIFIED:20260412T182633Z
UID:1560-1784937600-1785024000@trabantfreunde.de
SUMMARY:23. Museumsfest Blaulichtmuseum Beuster
DESCRIPTION:Oldtimertermin erstellt von “Framo-Frank”
URL:https://trabantfreunde.de/veranstaltung/23-museumsfest-blaulichtmuseum-beuster-2/
LOCATION:Beuster Altmarkt
CATEGORIES:Oldtimertreffen
END:VEVENT
BEGIN:VEVENT
DTSTART;TZID=Europe/Berlin:20260731T000000
DTEND;TZID=Europe/Berlin:20260731T000000
DTSTAMP:20260420T103625
CREATED:20260412T182633Z
LAST-MODIFIED:20260412T182633Z
UID:1563-1785456000-1785456000@trabantfreunde.de
SUMMARY:10. Framotreffen der Sächen Framofreunde
DESCRIPTION:Oldtimertermin erstellt von “Framo-Frank”
URL:https://trabantfreunde.de/veranstaltung/10-framotreffen-der-saechen-framofreunde/
CATEGORIES:Oldtimertreffen
END:VEVENT
BEGIN:VEVENT
DTSTART;TZID=Europe/Berlin:20260731T000000
DTEND;TZID=Europe/Berlin:20260731T000000
DTSTAMP:20260420T103625
CREATED:20260412T182633Z
LAST-MODIFIED:20260412T182633Z
UID:1564-1785456000-1785456000@trabantfreunde.de
SUMMARY:„Heimweh"- AWE Wartburgtreffen Eisenach
DESCRIPTION:Oldtimertermin erstellt von “Framo-Frank”
URL:https://trabantfreunde.de/veranstaltung/heimweh-awe-wartburgtreffen-eisenach-2/
LOCATION:Eisenach
CATEGORIES:Oldtimertreffen
END:VEVENT
BEGIN:VEVENT
DTSTART;TZID=Europe/Berlin:20260801T000000
DTEND;TZID=Europe/Berlin:20260801T000000
DTSTAMP:20260420T103625
CREATED:20260412T181948Z
LAST-MODIFIED:20260412T181948Z
UID:1705-1785542400-1785542400@trabantfreunde.de
SUMMARY:Jerichower Oldtimertreffen
DESCRIPTION:Oldtimertermin erstellt von “Framo-Frank”
URL:https://trabantfreunde.de/veranstaltung/jerichower-oldtimertreffen-2/
LOCATION:Jerichow
CATEGORIES:Oldtimertreffen
END:VEVENT
BEGIN:VEVENT
DTSTART;TZID=Europe/Berlin:20260801T000000
DTEND;TZID=Europe/Berlin:20260801T000000
DTSTAMP:20260420T103625
CREATED:20260412T182456Z
LAST-MODIFIED:20260412T182456Z
UID:1706-1785542400-1785542400@trabantfreunde.de
SUMMARY:7. Oldtimer - und 2-Takttreffen
DESCRIPTION:Oldtimertermin erstellt von “Framo-Frank”
URL:https://trabantfreunde.de/veranstaltung/7-oldtimer-und-2-takttreffen/
LOCATION:Mehringen bei Aschersleben
CATEGORIES:Oldtimertreffen
END:VEVENT
BEGIN:VEVENT
DTSTART;TZID=Europe/Berlin:20260808T000000
DTEND;TZID=Europe/Berlin:20260808T000000
DTSTAMP:20260420T103625
CREATED:20260412T181948Z
LAST-MODIFIED:20260412T181948Z
UID:1707-1786147200-1786147200@trabantfreunde.de
SUMMARY:20. IWL Motorrollertreffen
DESCRIPTION:Oldtimertermin erstellt von “Framo-Frank”
URL:https://trabantfreunde.de/veranstaltung/20-iwl-motorrollertreffen/
LOCATION:Ludwigsfelde
CATEGORIES:Oldtimertreffen
END:VEVENT
BEGIN:VEVENT
DTSTART;TZID=Europe/Berlin:20260808T100000
DTEND;TZID=Europe/Berlin:20260808T170000
DTSTAMP:20260420T103625
CREATED:20260303T133226Z
LAST-MODIFIED:20260305T115006Z
UID:1475-1786183200-1786208400@trabantfreunde.de
SUMMARY:16. IFA- und Ostmobiletreffen Biere
DESCRIPTION:
URL:https://trabantfreunde.de/veranstaltung/16-ifa-und-ostmobiletreffen-biere/
CATEGORIES:Oldtimertreffen
ATTACH;FMTTYPE=image/jpeg:https://trabantfreunde.de/wp-content/uploads/2026/03/Flyer_OMT_2026_final.jpg
ORGANIZER;CN="Bierer Kulturverein 2004 e.V.":MAILTO:kontakt@bierer-kulturverein.de
END:VEVENT
BEGIN:VEVENT
DTSTART;TZID=Europe/Berlin:20260822T000000
DTEND;TZID=Europe/Berlin:20260822T000000
DTSTAMP:20260420T103625
CREATED:20260412T181948Z
LAST-MODIFIED:20260412T181948Z
UID:1708-1787356800-1787356800@trabantfreunde.de
SUMMARY:Oldtimertreffen
DESCRIPTION:Oldtimertermin erstellt von “Framo-Frank”
URL:https://trabantfreunde.de/veranstaltung/oldtimertreffen-6/
LOCATION:Hohenziatz
CATEGORIES:Oldtimertreffen
END:VEVENT
BEGIN:VEVENT
DTSTART;TZID=Europe/Berlin:20260822T000000
DTEND;TZID=Europe/Berlin:20260822T000000
DTSTAMP:20260420T103625
CREATED:20260412T181948Z
LAST-MODIFIED:20260412T181948Z
UID:1709-1787356800-1787356800@trabantfreunde.de
SUMMARY:22. Militär & Technik Ohrsleben/Hötensleben
DESCRIPTION:Oldtimertermin erstellt von “Framo-Frank”
URL:https://trabantfreunde.de/veranstaltung/22-militaer-technik-ohrsleben-hoetensleben/
LOCATION:Ohrsleben / Hötensleben
CATEGORIES:Oldtimertreffen
END:VEVENT
BEGIN:VEVENT
DTSTART;TZID=Europe/Berlin:20260829T000000
DTEND;TZID=Europe/Berlin:20260830T000000
DTSTAMP:20260420T103625
CREATED:20260412T182633Z
LAST-MODIFIED:20260412T182633Z
UID:1570-1787961600-1788048000@trabantfreunde.de
SUMMARY:11. Framotreffen beim Framo - Jens
DESCRIPTION:Oldtimertermin erstellt von “Framo-Frank”
URL:https://trabantfreunde.de/veranstaltung/11-framotreffen-beim-framo-jens-2/
LOCATION:Kauschwitz
CATEGORIES:Oldtimertreffen
END:VEVENT
BEGIN:VEVENT
DTSTART;TZID=Europe/Berlin:20260829T000000
DTEND;TZID=Europe/Berlin:20260830T000000
DTSTAMP:20260420T103625
CREATED:20260412T182633Z
LAST-MODIFIED:20260412T182633Z
UID:1571-1787961600-1788048000@trabantfreunde.de
SUMMARY:27.OMMMA Ost-Mobil-Meeting-Magdeburg
DESCRIPTION:Oldtimertermin erstellt von “Framo-Frank”
URL:https://trabantfreunde.de/veranstaltung/27-ommma-ost-mobil-meeting-magdeburg/
LOCATION:Magdeburg Elbauenpark
CATEGORIES:Oldtimertreffen
END:VEVENT
BEGIN:VEVENT
DTSTART;TZID=Europe/Berlin:20260905T000000
DTEND;TZID=Europe/Berlin:20260905T000000
DTSTAMP:20260420T103625
CREATED:20260412T181948Z
LAST-MODIFIED:20260412T181948Z
UID:1710-1788566400-1788566400@trabantfreunde.de
SUMMARY:11. Oldtimertreffen
DESCRIPTION:Oldtimertermin erstellt von “Framo-Frank”
URL:https://trabantfreunde.de/veranstaltung/11-oldtimertreffen/
LOCATION:Parchau
CATEGORIES:Oldtimertreffen
END:VEVENT
BEGIN:VEVENT
DTSTART;TZID=Europe/Berlin:20260905T100000
DTEND;TZID=Europe/Berlin:20260905T100000
DTSTAMP:20260420T103625
CREATED:20260412T181948Z
LAST-MODIFIED:20260412T181948Z
UID:1711-1788602400-1788602400@trabantfreunde.de
SUMMARY:Oldtimertreffen & Wasserfest
DESCRIPTION:Oldtimertermin erstellt von “Framo-Frank”
URL:https://trabantfreunde.de/veranstaltung/oldtimertreffen-wasserfest-3/
LOCATION:Unseburg   Sportplatz   Am Großen Holz
CATEGORIES:Oldtimertreffen
END:VEVENT
BEGIN:VEVENT
DTSTART;TZID=Europe/Berlin:20260906T100000
DTEND;TZID=Europe/Berlin:20260906T100000
DTSTAMP:20260420T103625
CREATED:20260412T181948Z
LAST-MODIFIED:20260412T181948Z
UID:1712-1788688800-1788688800@trabantfreunde.de
SUMMARY:Oldtimertreffen
DESCRIPTION:Oldtimertermin erstellt von “Framo-Frank”
URL:https://trabantfreunde.de/veranstaltung/oldtimertreffen-4/
CATEGORIES:Oldtimertreffen
END:VEVENT
BEGIN:VEVENT
DTSTART;TZID=Europe/Berlin:20260911T000000
DTEND;TZID=Europe/Berlin:20260911T000000
DTSTAMP:20260420T103625
CREATED:20260412T181948Z
LAST-MODIFIED:20260412T181948Z
UID:1714-1789084800-1789084800@trabantfreunde.de
SUMMARY:31. DDR Wohnwagen und Camping Treffen
DESCRIPTION:Oldtimertermin erstellt von “Framo-Frank”
URL:https://trabantfreunde.de/veranstaltung/31-ddr-wohnwagen-und-camping-treffen/
LOCATION:Weferlingen
CATEGORIES:Oldtimertreffen
END:VEVENT
BEGIN:VEVENT
DTSTART;TZID=Europe/Berlin:20260911T000000
DTEND;TZID=Europe/Berlin:20260911T000000
DTSTAMP:20260420T103625
CREATED:20260412T181948Z
LAST-MODIFIED:20260412T181948Z
UID:1713-1789084800-1789084800@trabantfreunde.de
SUMMARY:15. Treffen für DDR-Campingfreunde
DESCRIPTION:Oldtimertermin erstellt von “Framo-Frank”
URL:https://trabantfreunde.de/veranstaltung/15-treffen-fuer-ddr-campingfreunde/
LOCATION:Heide-Camp-Schlaitz
CATEGORIES:Oldtimertreffen
END:VEVENT
BEGIN:VEVENT
DTSTART;TZID=Europe/Berlin:20260912T000000
DTEND;TZID=Europe/Berlin:20260912T000000
DTSTAMP:20260420T103625
CREATED:20260412T181947Z
LAST-MODIFIED:20260412T181947Z
UID:1715-1789171200-1789171200@trabantfreunde.de
SUMMARY:Lokschuppenfest + Oldtimertreffen Aschersleben
DESCRIPTION:Oldtimertermin erstellt von “Framo-Frank”
URL:https://trabantfreunde.de/veranstaltung/lokschuppenfest-oldtimertreffen-aschersleben-2/
LOCATION:Aschersleben
CATEGORIES:Oldtimertreffen
END:VEVENT
BEGIN:VEVENT
DTSTART;TZID=Europe/Berlin:20260912T000000
DTEND;TZID=Europe/Berlin:20260912T000000
DTSTAMP:20260420T103625
CREATED:20260412T181947Z
LAST-MODIFIED:20260412T181947Z
UID:1716-1789171200-1789171200@trabantfreunde.de
SUMMARY:Oldtimertreffen
DESCRIPTION:Oldtimertermin erstellt von “Framo-Frank”
URL:https://trabantfreunde.de/veranstaltung/oldtimertreffen-3/
CATEGORIES:Oldtimertreffen
END:VEVENT
BEGIN:VEVENT
DTSTART;TZID=Europe/Berlin:20260912T000000
DTEND;TZID=Europe/Berlin:20260912T000000
DTSTAMP:20260420T103625
CREATED:20260412T181947Z
LAST-MODIFIED:20260412T181947Z
UID:1717-1789171200-1789171200@trabantfreunde.de
SUMMARY:Oldtimertreffen Barleben
DESCRIPTION:Oldtimertermin erstellt von “Framo-Frank”
URL:https://trabantfreunde.de/veranstaltung/oldtimertreffen-barleben-2/
LOCATION:Barleben
CATEGORIES:Oldtimertreffen
END:VEVENT
BEGIN:VEVENT
DTSTART;TZID=Europe/Berlin:20260919T000000
DTEND;TZID=Europe/Berlin:20260919T000000
DTSTAMP:20260420T103625
CREATED:20260412T181947Z
LAST-MODIFIED:20260412T181947Z
UID:1719-1789776000-1789776000@trabantfreunde.de
SUMMARY:22. BARKAS-Treffen in Podelwitz bei Leipzig
DESCRIPTION:Oldtimertermin erstellt von “Framo-Frank”
URL:https://trabantfreunde.de/veranstaltung/22-barkas-treffen-in-podelwitz-bei-leipzig-2/
LOCATION:Podelwitz bei Leipzig
CATEGORIES:Oldtimertreffen
END:VEVENT
BEGIN:VEVENT
DTSTART;TZID=Europe/Berlin:20260919T000000
DTEND;TZID=Europe/Berlin:20260919T000000
DTSTAMP:20260420T103625
CREATED:20260412T181947Z
LAST-MODIFIED:20260412T181947Z
UID:1720-1789776000-1789776000@trabantfreunde.de
SUMMARY:9. Oldtimertreffen Wellen
DESCRIPTION:Oldtimertermin erstellt von “Framo-Frank”
URL:https://trabantfreunde.de/veranstaltung/9-oldtimertreffen-wellen/
LOCATION:Wellen
CATEGORIES:Oldtimertreffen
END:VEVENT
BEGIN:VEVENT
DTSTART;TZID=Europe/Berlin:20260919T100000
DTEND;TZID=Europe/Berlin:20260919T100000
DTSTAMP:20260420T103625
CREATED:20260412T181947Z
LAST-MODIFIED:20260412T181947Z
UID:1718-1789812000-1789812000@trabantfreunde.de
SUMMARY:Herbstausfahrt
DESCRIPTION:Oldtimertermin erstellt von “Framo-Frank”
URL:https://trabantfreunde.de/veranstaltung/herbstausfahrt-3/
CATEGORIES:Oldtimertreffen
END:VEVENT
BEGIN:VEVENT
DTSTART;TZID=Europe/Berlin:20260919T100000
DTEND;TZID=Europe/Berlin:20260920T180000
DTSTAMP:20260420T103625
CREATED:20260412T171127Z
LAST-MODIFIED:20260412T172041Z
UID:1581-1789812000-1789927200@trabantfreunde.de
SUMMARY:22. BARKAS-Treffen in Podelwitz bei Leipzig
DESCRIPTION:Oldtimertermin erstellt von “Framo-Frank”
URL:https://trabantfreunde.de/veranstaltung/22-barkas-treffen-in-podelwitz-bei-leipzig/
LOCATION:Podelwitz bei Leipzig
CATEGORIES:Oldtimertreffen
END:VEVENT
BEGIN:VEVENT
DTSTART;TZID=Europe/Berlin:20260926T000000
DTEND;TZID=Europe/Berlin:20260926T000000
DTSTAMP:20260420T103625
CREATED:20260412T182632Z
LAST-MODIFIED:20260412T182632Z
UID:1583-1790380800-1790380800@trabantfreunde.de
SUMMARY:Militäroldtimertreffen ab 20:00 Uhr Ossi Party mit DJ
DESCRIPTION:Oldtimertermin erstellt von “Framo-Frank”
URL:https://trabantfreunde.de/veranstaltung/militaeroldtimertreffen-ab-2000-uhr-ossi-party-mit-dj/
LOCATION:Dolle
CATEGORIES:Oldtimertreffen
END:VEVENT
BEGIN:VEVENT
DTSTART;TZID=Europe/Berlin:20260926T000000
DTEND;TZID=Europe/Berlin:20260926T000000
DTSTAMP:20260420T103625
CREATED:20260412T182632Z
LAST-MODIFIED:20260412T182632Z
UID:1584-1790380800-1790380800@trabantfreunde.de
SUMMARY:35. Techno Classica Dortmund
DESCRIPTION:Oldtimertermin erstellt von “Framo-Frank”
URL:https://trabantfreunde.de/veranstaltung/35-techno-classica-dortmund/
CATEGORIES:Oldtimertreffen
END:VEVENT
BEGIN:VEVENT
DTSTART;TZID=Europe/Berlin:20260927T000000
DTEND;TZID=Europe/Berlin:20260927T000000
DTSTAMP:20260420T103625
CREATED:20260412T182632Z
LAST-MODIFIED:20260412T182632Z
UID:1585-1790467200-1790467200@trabantfreunde.de
SUMMARY:Herbstglühen
DESCRIPTION:Oldtimertermin erstellt von “Framo-Frank”
URL:https://trabantfreunde.de/veranstaltung/herbstgluehen-2/
LOCATION:Oschersleben Motorsport Arena
CATEGORIES:Oldtimertreffen
END:VEVENT
BEGIN:VEVENT
DTSTART;TZID=Europe/Berlin:20261003T000000
DTEND;TZID=Europe/Berlin:20261003T000000
DTSTAMP:20260420T103625
CREATED:20260412T181947Z
LAST-MODIFIED:20260412T181947Z
UID:1721-1790985600-1790985600@trabantfreunde.de
SUMMARY:24h Simsonrennen
DESCRIPTION:Oldtimertermin erstellt von “Framo-Frank”
URL:https://trabantfreunde.de/veranstaltung/24h-simsonrennen-2/
LOCATION:Vahrholz bei Kalbe (Milde)
CATEGORIES:Oldtimertreffen
END:VEVENT
BEGIN:VEVENT
DTSTART;TZID=Europe/Berlin:20261010T000000
DTEND;TZID=Europe/Berlin:20261010T000000
DTSTAMP:20260420T103625
CREATED:20260412T181947Z
LAST-MODIFIED:20260412T181947Z
UID:1722-1791590400-1791590400@trabantfreunde.de
SUMMARY:21. Treffen für historische Fahrradmotor und Mopeds
DESCRIPTION:Oldtimertermin erstellt von “Framo-Frank”
URL:https://trabantfreunde.de/veranstaltung/21-treffen-fuer-historische-fahrradmotor-und-mopeds-2/
LOCATION:Partwitzer See
CATEGORIES:Oldtimertreffen
END:VEVENT
BEGIN:VEVENT
DTSTART;TZID=Europe/Berlin:20261024T090000
DTEND;TZID=Europe/Berlin:20261024T090000
DTSTAMP:20260420T103625
CREATED:20260412T181947Z
LAST-MODIFIED:20260412T181947Z
UID:1723-1792832400-1792832400@trabantfreunde.de
SUMMARY:Oldtimer Saisonende mit Ausfahrt im Heideecken
DESCRIPTION:Oldtimertermin erstellt von “Framo-Frank”
URL:https://trabantfreunde.de/veranstaltung/oldtimer-saisonende-mit-ausfahrt-im-heideecken-3/
LOCATION:Genthin
CATEGORIES:Oldtimertreffen
END:VEVENT
BEGIN:VEVENT
DTSTART;TZID=Europe/Berlin:20261107T000000
DTEND;TZID=Europe/Berlin:20261107T000000
DTSTAMP:20260420T103625
CREATED:20260412T181946Z
LAST-MODIFIED:20260412T181946Z
UID:1724-1794009600-1794009600@trabantfreunde.de
SUMMARY:42. Ostdeutsche KFZ Veteranen Teilemarkt & Basar
DESCRIPTION:Oldtimertermin erstellt von “Framo-Frank”
URL:https://trabantfreunde.de/veranstaltung/42-ostdeutsche-kfz-veteranen-teilemarkt-basar/
CATEGORIES:Oldtimertreffen
END:VEVENT
END:VCALENDAR