BEGIN:VCALENDAR
VERSION:2.0
PRODID:-//trabantfreunde.de - ECPv6.15.20//NONSGML v1.0//EN
CALSCALE:GREGORIAN
METHOD:PUBLISH
X-ORIGINAL-URL:https://trabantfreunde.de
X-WR-CALDESC:Veranstaltungen für trabantfreunde.de
REFRESH-INTERVAL;VALUE=DURATION:PT1H
X-Robots-Tag:noindex
X-PUBLISHED-TTL:PT1H
BEGIN:VTIMEZONE
TZID:Europe/Berlin
BEGIN:DAYLIGHT
TZOFFSETFROM:+0100
TZOFFSETTO:+0200
TZNAME:CEST
DTSTART:20250330T010000
END:DAYLIGHT
BEGIN:STANDARD
TZOFFSETFROM:+0200
TZOFFSETTO:+0100
TZNAME:CET
DTSTART:20251026T010000
END:STANDARD
BEGIN:DAYLIGHT
TZOFFSETFROM:+0100
TZOFFSETTO:+0200
TZNAME:CEST
DTSTART:20260329T010000
END:DAYLIGHT
BEGIN:STANDARD
TZOFFSETFROM:+0200
TZOFFSETTO:+0100
TZNAME:CET
DTSTART:20261025T010000
END:STANDARD
BEGIN:DAYLIGHT
TZOFFSETFROM:+0100
TZOFFSETTO:+0200
TZNAME:CEST
DTSTART:20270328T010000
END:DAYLIGHT
BEGIN:STANDARD
TZOFFSETFROM:+0200
TZOFFSETTO:+0100
TZNAME:CET
DTSTART:20271031T010000
END:STANDARD
END:VTIMEZONE
BEGIN:VEVENT
DTSTART;TZID=Europe/Berlin:20261003T000000
DTEND;TZID=Europe/Berlin:20261003T000000
DTSTAMP:20260420T151153
CREATED:20260412T181947Z
LAST-MODIFIED:20260412T181947Z
UID:1721-1790985600-1790985600@trabantfreunde.de
SUMMARY:24h Simsonrennen
DESCRIPTION:Oldtimertermin erstellt von “Framo-Frank”
URL:https://trabantfreunde.de/veranstaltung/24h-simsonrennen-2/
LOCATION:Vahrholz bei Kalbe (Milde)
CATEGORIES:Oldtimertreffen
END:VEVENT
BEGIN:VEVENT
DTSTART;TZID=Europe/Berlin:20261010T000000
DTEND;TZID=Europe/Berlin:20261010T000000
DTSTAMP:20260420T151153
CREATED:20260412T181947Z
LAST-MODIFIED:20260412T181947Z
UID:1722-1791590400-1791590400@trabantfreunde.de
SUMMARY:21. Treffen für historische Fahrradmotor und Mopeds
DESCRIPTION:Oldtimertermin erstellt von “Framo-Frank”
URL:https://trabantfreunde.de/veranstaltung/21-treffen-fuer-historische-fahrradmotor-und-mopeds-2/
LOCATION:Partwitzer See
CATEGORIES:Oldtimertreffen
END:VEVENT
BEGIN:VEVENT
DTSTART;TZID=Europe/Berlin:20261024T090000
DTEND;TZID=Europe/Berlin:20261024T090000
DTSTAMP:20260420T151153
CREATED:20260412T181947Z
LAST-MODIFIED:20260412T181947Z
UID:1723-1792832400-1792832400@trabantfreunde.de
SUMMARY:Oldtimer Saisonende mit Ausfahrt im Heideecken
DESCRIPTION:Oldtimertermin erstellt von “Framo-Frank”
URL:https://trabantfreunde.de/veranstaltung/oldtimer-saisonende-mit-ausfahrt-im-heideecken-3/
LOCATION:Genthin
CATEGORIES:Oldtimertreffen
END:VEVENT
END:VCALENDAR