BEGIN:VCALENDAR
VERSION:2.0
PRODID:-//trabantfreunde.de - ECPv6.15.20//NONSGML v1.0//EN
CALSCALE:GREGORIAN
METHOD:PUBLISH
X-ORIGINAL-URL:https://trabantfreunde.de
X-WR-CALDESC:Veranstaltungen für trabantfreunde.de
REFRESH-INTERVAL;VALUE=DURATION:PT1H
X-Robots-Tag:noindex
X-PUBLISHED-TTL:PT1H
BEGIN:VTIMEZONE
TZID:Europe/Berlin
BEGIN:DAYLIGHT
TZOFFSETFROM:+0100
TZOFFSETTO:+0200
TZNAME:CEST
DTSTART:20240331T010000
END:DAYLIGHT
BEGIN:STANDARD
TZOFFSETFROM:+0200
TZOFFSETTO:+0100
TZNAME:CET
DTSTART:20241027T010000
END:STANDARD
BEGIN:DAYLIGHT
TZOFFSETFROM:+0100
TZOFFSETTO:+0200
TZNAME:CEST
DTSTART:20250330T010000
END:DAYLIGHT
BEGIN:STANDARD
TZOFFSETFROM:+0200
TZOFFSETTO:+0100
TZNAME:CET
DTSTART:20251026T010000
END:STANDARD
BEGIN:DAYLIGHT
TZOFFSETFROM:+0100
TZOFFSETTO:+0200
TZNAME:CEST
DTSTART:20260329T010000
END:DAYLIGHT
BEGIN:STANDARD
TZOFFSETFROM:+0200
TZOFFSETTO:+0100
TZNAME:CET
DTSTART:20261025T010000
END:STANDARD
END:VTIMEZONE
BEGIN:VEVENT
DTSTART;TZID=Europe/Berlin:20251003T100000
DTEND;TZID=Europe/Berlin:20251003T100000
DTSTAMP:20260420T150728
CREATED:20250418T134401Z
LAST-MODIFIED:20250422T064612Z
UID:1019-1759485600-1759485600@trabantfreunde.de
SUMMARY:Historische Einsatzfahrzeuge
DESCRIPTION:Oldtimertermin erstellt von “Framo-Frank”
URL:https://trabantfreunde.de/veranstaltung/historische-einsatzfahrzeuge-2/
LOCATION:Staßfurt Fahrzeugmuseum
CATEGORIES:Oldtimertreffen
END:VEVENT
BEGIN:VEVENT
DTSTART;TZID=Europe/Berlin:20251004T000000
DTEND;TZID=Europe/Berlin:20251004T000000
DTSTAMP:20260420T150728
CREATED:20250418T134401Z
LAST-MODIFIED:20250422T064612Z
UID:1021-1759536000-1759536000@trabantfreunde.de
SUMMARY:Herbstglühen
DESCRIPTION:Oldtimertermin erstellt von “Framo-Frank”
URL:https://trabantfreunde.de/veranstaltung/herbstgluehen/
LOCATION:Oschersleben Motorsport Arena
CATEGORIES:Oldtimertreffen
END:VEVENT
BEGIN:VEVENT
DTSTART;TZID=Europe/Berlin:20251004T000000
DTEND;TZID=Europe/Berlin:20251005T000000
DTSTAMP:20260420T150728
CREATED:20250418T134401Z
LAST-MODIFIED:20250422T064612Z
UID:1022-1759536000-1759622400@trabantfreunde.de
SUMMARY:24h Simsonrennen
DESCRIPTION:Oldtimertermin erstellt von “Framo-Frank”
URL:https://trabantfreunde.de/veranstaltung/24h-simsonrennen/
LOCATION:Vahrholz bei Kalbe (Milde)
CATEGORIES:Oldtimertreffen
END:VEVENT
BEGIN:VEVENT
DTSTART;TZID=Europe/Berlin:20251004T000000
DTEND;TZID=Europe/Berlin:20251005T000000
DTSTAMP:20260420T150728
CREATED:20250418T134401Z
LAST-MODIFIED:20250422T064612Z
UID:1020-1759536000-1759622400@trabantfreunde.de
SUMMARY:5. Vorharzer Oldtimertreffen
DESCRIPTION:Oldtimertermin erstellt von “Framo-Frank”
URL:https://trabantfreunde.de/veranstaltung/5-vorharzer-oldtimertreffen/
LOCATION:Langeln
CATEGORIES:Oldtimertreffen
END:VEVENT
BEGIN:VEVENT
DTSTART;TZID=Europe/Berlin:20251011T000000
DTEND;TZID=Europe/Berlin:20251011T000000
DTSTAMP:20260420T150728
CREATED:20250418T134401Z
LAST-MODIFIED:20250422T064612Z
UID:1023-1760140800-1760140800@trabantfreunde.de
SUMMARY:Oldtimer Teile- und Trödelmarkt
DESCRIPTION:Oldtimertermin erstellt von “Framo-Frank”
URL:https://trabantfreunde.de/veranstaltung/oldtimer-teile-und-troedelmarkt/
CATEGORIES:Oldtimertreffen
END:VEVENT
BEGIN:VEVENT
DTSTART;TZID=Europe/Berlin:20251011T000000
DTEND;TZID=Europe/Berlin:20251011T000000
DTSTAMP:20260420T150728
CREATED:20250418T134401Z
LAST-MODIFIED:20250422T064612Z
UID:1024-1760140800-1760140800@trabantfreunde.de
SUMMARY:21. Treffen für historische Fahrradmotor und Mopeds
DESCRIPTION:Oldtimertermin erstellt von “Framo-Frank”
URL:https://trabantfreunde.de/veranstaltung/21-treffen-fuer-historische-fahrradmotor-und-mopeds/
LOCATION:Partwitzer See
CATEGORIES:Oldtimertreffen
END:VEVENT
BEGIN:VEVENT
DTSTART;TZID=Europe/Berlin:20251031T000000
DTEND;TZID=Europe/Berlin:20251031T000000
DTSTAMP:20260420T150728
CREATED:20250418T134401Z
LAST-MODIFIED:20250422T064612Z
UID:1026-1761868800-1761868800@trabantfreunde.de
SUMMARY:Historische Einsatzfahrzeuge
DESCRIPTION:Oldtimertermin erstellt von “Framo-Frank”
URL:https://trabantfreunde.de/veranstaltung/historische-einsatzfahrzeuge/
LOCATION:Staßfurt Fahrzeugmuseum
CATEGORIES:Oldtimertreffen
END:VEVENT
BEGIN:VEVENT
DTSTART;TZID=Europe/Berlin:20251031T090000
DTEND;TZID=Europe/Berlin:20251031T090000
DTSTAMP:20260420T150728
CREATED:20250418T134401Z
LAST-MODIFIED:20250422T064612Z
UID:1025-1761901200-1761901200@trabantfreunde.de
SUMMARY:Oldtimer Saisonende mit Ausfahrt im Heideecken
DESCRIPTION:Oldtimertermin erstellt von “Framo-Frank”
URL:https://trabantfreunde.de/veranstaltung/oldtimer-saisonende-mit-ausfahrt-im-heideecken/
CATEGORIES:Oldtimertreffen
END:VEVENT
END:VCALENDAR